Workbook

Sheet summary
D1: 100 | E1: 112 | F1: 113 | G1: 114 | H1: 115 | I1: 120 | L1: 150 | M1: 151 | N1: 160 | O1: 161 | P1: 210 | Q1: 211 | R1: 213 | S1: 214 | T1: 215 | U1: 216 | V1: 217 | W1: 218 | X1: 219 | Y1: 250 | Z1: 310 | AA1: 311 | AB1: 312 | AC1: 410 | AD1: 510 | AE1: 610 | AF1: 615 | AG1: 620 | AH1: 625 | AI1: 650 | AJ1: 660 | AK1: 665 | AL1: 670 | AM1: 675 | AN1: 680 | AO1: 685 | AP1: 690 | AQ1: 810
D2: Cash | E2: Accounts receivable | F2: Supplies | G2: Prepaid Rent | H2: Prepaid Advertising | I2: Merchandise Inventory | J2: Truck | K2: Accumulated Depreciation-Office Equipment | L2: Equipment | M2: Accumulated Depreciation-Office Equipment | N2: Store Equipment | O2: Accumulated Depreciation-Store Equipment | P2: Accounts Payable | Q2: Notes payable | R2: Sales Tax Payable | S2: Employee's Federal Income Tax Payable | T2: Social Security Tax Payable | U2: Medicare Tax Payable | V2: FUTA Tax Payable | W2: SUTA Tax Payable | X2: Unearned Revenue | Y2: Service Revenue | Z2: Common Stock | AA2: Queta Johnson, Drawing | AB2: Income Summary | AC2: Sales | AD2: Cost of Merchandise Sold | AE2: Advertising Expense | AF2: Depreciation Expense-Equipment | AG2: Wages Expense | AH2: Fuel expense | AI2: Rent Expense | AJ2: Depreciation Expense-Equipment | AK2: Insurance Expense | AL2: Payroll Tax Expense | AM2: Office Supplies Expense | AN2: Telephone Expense | AO2: Utilities Expense | AP2: Miscellaneous Expense | AQ2: Interest Expense
A3: 42370 | C3: =SUM(D3:J3,N3,L3)+SUM(AD2:AQ2)-K3-M3-O3-P3-Q3-R3-S3-T3-U3-V3-W3-X3-Z3-AC3+AA3-Y3 -> 0 | D3: 10000 | J3: 16000 | Z3: 26000
A4: 42400 | C4: =SUM(D4:J4,N4,L4)+SUM(AD3:AQ3)-K4-M4-O4-P4-Q4-R4-S4-T4-U4-V4-W4-X4-Z4-AC4+AA4-Y4 -> 0 | D4: 50000 | Q4: 50000
A5: 42400 | C5: =SUM(D5:J5,L5,N5,AA5,AD5,AE5,AF5,AG5,AH5,AI5,AJ5,AK5,AL5,AM5,AN5,AO5,AP5,AQ5)-K5-M5-O5-P5-Q5-R5-S5-T5-U5-V5-W5-X5-Y5-Z5-AC5 -> 0 | D5: -500 | AI5: 500
A6: 42401 | C6: =SUM(D6:J6,L6,N6,AA6,AD6,AE6,AF6,AG6,AH6,AI6,AJ6,AK6,AL6,AM6,AN6,AO6,AP6,AQ6)-K6-M6-O6-P6-Q6-R6-S6-T6-U6-V6-W6-X6-Y6-Z6-AC6 -> 0 | D6: -10000 | L6: 10000
A7: 42415 | C7: =SUM(D7:J7,L7,N7,AA7,AD7,AE7,AF7,AG7,AH7,AI7,AJ7,AK7,AL7,AM7,AN7,AO7,AP7,AQ7)-K7-M7-O7-P7-Q7-R7-S7-T7-U7-V7-W7-X7-Y7-Z7-AC7 -> 0 | I7: 200 | P7: 200
A8: 42401 | C8: =SUM(D8:J8,L8,N8,AA8,AD8,AE8,AF8,AG8,AH8,AI8,AJ8,AK8,AL8,AM8,AN8,AO8,AP8,AQ8)-K8-M8-O8-P8-Q8-R8-S8-T8-U8-V8-W8-X8-Y8-Z8-AC8 -> 0 | D8: -500 | AI8: 500
A9: 42430 | C9: =SUM(D9:J9,L9,N9,AA9,AD9,AE9,AF9,AG9,AH9,AI9,AJ9,AK9,AL9,AM9,AN9,AO9,AP9,AQ9)-K9-M9-O9-P9-Q9-R9-S9-T9-U9-V9-W9-X9-Y9-Z9-AC9 -> 0 | D9: -5000 | G9: 5000
A10: 42430 | C10: =SUM(D10:J10,L10,N10,AA10,AD10,AE10,AF10,AG10,AH10,AI10,AJ10,AK10,AL10,AM10,AN10,AO10,AP10,AQ10)-K10-M10-O10-P10-Q10-R10-S10-T10-U10-V10-W10-X10-Y10-Z10-AC10 -> 0 | I10: =800 -> 800 | P10: 800
A11: 42430 | C11: =SUM(D11:J11,L11,N11,AA11,AD11,AE11,AF11,AG11,AH11,AI11,AJ11,AK11,AL11,AM11,AN11,AO11,AP11,AQ11)-K11-M11-O11-P11-Q11-R11-S11-T11-U11-V11-W11-X11-Y11-Z11-AC11 -> 0 | D11: -200 | P11: -200
A12: 42444 | C12: =SUM(D12:J12,L12,N12,AA12,AD12,AE12,AF12,AG12,AH12,AI12,AJ12,AK12,AL12,AM12,AN12,AO12,AP12,AQ12)-K12-M12-O12-P12-Q12-R12-S12-T12-U12-V12-W12-X12-Y12-Z12-AC12 -> 0 | D12: 300 | I12: -160 | AC12: 300 | AD12: 160
A13: 42444 | C13: =SUM(D13:J13,L13,N13,AA13,AD13,AE13,AF13,AG13,AH13,AI13,AJ13,AK13,AL13,AM13,AN13,AO13,AP13,AQ13)-K13-M13-O13-P13-Q13-R13-S13-T13-U13-V13-W13-X13-Y13-Z13-AC13 -> 0 | D13: 500 | Y13: 500
A14: 42444 | C14: =SUM(D14:J14,L14,N14,AA14,AD14,AE14,AF14,AG14,AH14,AI14,AJ14,AK14,AL14,AM14,AN14,AO14,AP14,AQ14)-K14-M14-O14-P14-Q14-R14-S14-T14-U14-V14-W14-X14-Y14-Z14-AC14 -> 0 | E14: 750 | Y14: 750
A15: 42461 | C15: =SUM(D15:J15,L15,N15,AA15,AD15,AE15,AF15,AG15,AH15,AI15,AJ15,AK15,AL15,AM15,AN15,AO15,AP15,AQ15)-K15-M15-O15-P15-Q15-R15-S15-T15-U15-V15-W15-X15-Y15-Z15-AC15 -> 0 | D15: 500 | E15: -500
A16: 42474 | C16: =SUM(D16:J16,L16,N16,AA16,AD16,AE16,AF16,AG16,AH16,AI16,AJ16,AK16,AL16,AM16,AN16,AO16,AP16,AQ16)-K16-M16-O16-P16-Q16-R16-S16-T16-U16-V16-W16-X16-Y16-Z16-AC16 -> 0 | D16: 250 | E16: -250
A17: 42475 | C17: =SUM(D17:J17,L17,N17,AA17,AD17,AE17,AF17,AG17,AH17,AI17,AJ17,AK17,AL17,AM17,AN17,AO17,AP17,AQ17)-K17-M17-O17-P17-Q17-R17-S17-T17-U17-V17-W17-X17-Y17-Z17-AC17 -> 0 | D17: 375 | I17: -200 | AC17: 375 | AD17: 200
A18: 42475 | C18: =SUM(D18:J18,L18,N18,AA18,AD18,AE18,AF18,AG18,AH18,AI18,AJ18,AK18,AL18,AM18,AN18,AO18,AP18,AQ18)-K18-M18-O18-P18-Q18-R18-S18-T18-U18-V18-W18-X18-Y18-Z18-AC18 -> 0 | D18: 90 | I18: -30 | AC18: 90 | AD18: 30
A19: 42475 | C19: =SUM(D19:J19,L19,N19,AA19,AD19,AE19,AF19,AG19,AH19,AI19,AJ19,AK19,AL19,AM19,AN19,AO19,AP19,AQ19)-K19-M19-O19-P19-Q19-R19-S19-T19-U19-V19-W19-X19-Y19-Z19-AC19 -> 0 | D19: -5000 | AE19: 5000
A20: 42491 | C20: =SUM(D20:J20,L20,N20,AA20,AD20,AE20,AF20,AG20,AH20,AI20,AJ20,AK20,AL20,AM20,AN20,AO20,AP20,AQ20)-K20-M20-O20-P20-Q20-R20-S20-T20-U20-V20-W20-X20-Y20-Z20-AC20 -> 0 | D20: 100000 | X20: 100000
A21: 42521 | C21: =SUM(D21:J21,L21,N21,AA21,AD21,AE21,AF21,AG21,AH21,AI21,AJ21,AK21,AL21,AM21,AN21,AO21,AP21,AQ21)-K21-M21-O21-P21-Q21-R21-S21-T21-U21-V21-W21-X21-Y21-Z21-AC21 -> 0 | D21: 5500 | Y21: 5500
A22: 42521 | C22: =SUM(D22:J22,L22,N22,AA22,AD22,AE22,AF22,AG22,AH22,AI22,AJ22,AK22,AL22,AM22,AN22,AO22,AP22,AQ22)-K22-M22-O22-P22-Q22-R22-S22-T22-U22-V22-W22-X22-Y22-Z22-AC22 -> 0 | E22: 5500 | Y22: 5500
A23: 42521 | C23: =SUM(D23:J23,L23,N23,AA23,AD23,AE23,AF23,AG23,AH23,AI23,AJ23,AK23,AL23,AM23,AN23,AO23,AP23,AQ23)-K23-M23-O23-P23-Q23-R23-S23-T23-U23-V23-W23-X23-Y23-Z23-AC23 -> 0 | D23: -1000 | AH23: 1000
A24: 42526 | C24: =SUM(D24:J24,L24,N24,AA24,AD24,AE24,AF24,AG24,AH24,AI24,AJ24,AK24,AL24,AM24,AN24,AO24,AP24,AQ24)-K24-M24-O24-P24-Q24-R24-S24-T24-U24-V24-W24-X24-Y24-Z24-AC24 -> 0 | D24: -8000 | AG24: 8000
A25: 42536 | C25: =SUM(D25:J25,L25,N25,AA25,AD25,AE25,AF25,AG25,AH25,AI25,AJ25,AK25,AL25,AM25,AN25,AO25,AP25,AQ25)-K25-M25-O25-P25-Q25-R25-S25-T25-U25-V25-W25-X25-Y25-Z25-AC25 -> 0 | D25: 5500 | E25: -5500
A26: 42536 | C26: =SUM(D26:J26,L26,N26,AA26,AD26,AE26,AF26,AG26,AH26,AI26,AJ26,AK26,AL26,AM26,AN26,AO26,AP26,AQ26)-K26-M26-O26-P26-Q26-R26-S26-T26-U26-V26-W26-X26-Y26-Z26-AC26 -> 0 | D26: 120 | I26: -40 | AC26: 120 | AD26: 40
A27: 42551 | C27: =SUM(D27:J27,L27,N27,AA27,AD27,AE27,AF27,AG27,AH27,AI27,AJ27,AK27,AL27,AM27,AN27,AO27,AP27,AQ27)-K27-M27-O27-P27-Q27-R27-S27-T27-U27-V27-W27-X27-Y27-Z27-AC27 -> 0 | D27: 4400 | Y27: 4400
A28: 42551 | C28: =SUM(D28:J28,L28,N28,AA28,AD28,AE28,AF28,AG28,AH28,AI28,AJ28,AK28,AL28,AM28,AN28,AO28,AP28,AQ28)-K28-M28-O28-P28-Q28-R28-S28-T28-U28-V28-W28-X28-Y28-Z28-AC28 -> 0 | E28: 5500 | Y28: 5500
A29: 42551 | C29: =SUM(D29:J29,L29,N29,AA29,AD29,AE29,AF29,AG29,AH29,AI29,AJ29,AK29,AL29,AM29,AN29,AO29,AP29,AQ29)-K29-M29-O29-P29-Q29-R29-S29-T29-U29-V29-W29-X29-Y29-Z29-AC29 -> 0 | F29: 1000 | P29: 1000
A30: 42551 | C30: =SUM(D30:J30,L30,N30,AA30,AD30,AE30,AF30,AG30,AH30,AI30,AJ30,AK30,AL30,AM30,AN30,AO30,AP30,AQ30)-K30-M30-O30-P30-Q30-R30-S30-T30-U30-V30-W30-X30-Y30-Z30-AC30 -> 0 | D30: -6000 | Q30: -4000 | AQ30: 2000
A31: 42551 | C31: =SUM(D31:J31,L31,N31,AA31,AD31,AE31,AF31,AG31,AH31,AI31,AJ31,AK31,AL31,AM31,AN31,AO31,AP31,AQ31)-K31-M31-O31-P31-Q31-R31-S31-T31-U31-V31-W31-X31-Y31-Z31-AC31 -> 0 | D31: -1000 | AH31: 1000
C32: =SUM(D32:J32,L32,N32,AA32,AD32,AE32,AF32,AG32,AH32,AI32,AJ32,AK32,AL32,AM32,AN32,AO32,AP32,AQ32)-K32-M32-O32-P32-Q32-R32-S32-T32-U32-V32-W32-X32-Y32-Z32-AC32 -> -16000 | D32: =SUM(D3:D31) -> 140335 | E32: =SUM(E3:E31) -> 5500 | F32: =SUM(F3:F31) -> 1000 | G32: =SUM(G3:G31) -> 5000 | H32: =SUM(H3:H31) -> 0 | I32: =SUM(I3:I31) -> 570 | L32: =SUM(L3:L31) -> 10000 | M32: =SUM(M3:M31) -> 0 | N32: =SUM(N3:N31) -> 0 | O32: =SUM(O3:O31) -> 0 | P32: =SUM(P3:P31) -> 1800 | Q32: =SUM(Q3:Q31) -> 46000 | R32: =SUM(R3:R31) -> 0 | S32: =SUM(S3:S31) -> 0 | ... AQ32: =SUM(AQ3:AQ31) -> 2000

Sheet summary (2)
D2: Cash | E2: Accounts receivable | F2: Supplies | G2: Prepaid Rent | H2: Prepaid Advertising | I2: Inventory | J2: Truck | K2: Accumulated Depreciation-Office Equipment | L2: Equipment | M2: Accumulated Depreciation-Office Equipment | N2: Store Equipment | O2: Accumulated Depreciation-Store Equipment | P2: Accounts Payable | Q2: Notes payable | R2: Sales Tax Payable | S2: Employee's Federal Income Tax Payable | T2: Social Security Tax Payable | U2: Medicare Tax Payable | V2: FUTA Tax Payable | W2: SUTA Tax Payable | X2: Unearned Revenue | Y2: Service Revenue | Z2: Common Stock | AA2: Queta Johnson, Drawing | AB2: Income Summary | AC2: Sales | AD2: Cost of Goods Sold | AE2: Advertising Expense | AF2: Depreciation Expense-Equipment | AG2: Wages Expense | AH2: Fuel expense | AI2: Rent Expense | AJ2: Depreciation Expense-Equipment | AK2: Insurance Expense | AL2: Payroll Tax Expense | AM2: Office Supplies Expense | AN2: Telephone Expense | AO2: Utilities Expense | AP2: Miscellaneous Expense | AQ2: Interest Expense
A3: 42370 | C3: =SUM(D3:J3,N3,L3)+SUM(AD2:AQ2)-K3-M3-O3-P3-Q3-R3-S3-T3-U3-V3-W3-X3-Z3-AC3+AA3-Y3 -> 0 | D3: 10000 | J3: 16000 | Z3: 26000
A4: 42400 | C4: =SUM(D4:J4,N4,L4)+SUM(AD3:AQ3)-K4-M4-O4-P4-Q4-R4-S4-T4-U4-V4-W4-X4-Z4-AC4+AA4-Y4 -> 0 | D4: 50000 | Q4: 50000
A5: 42400 | C5: =SUM(D5:J5,L5,N5,AA5,AD5,AE5,AF5,AG5,AH5,AI5,AJ5,AK5,AL5,AM5,AN5,AO5,AP5,AQ5)-K5-M5-O5-P5-Q5-R5-S5-T5-U5-V5-W5-X5-Y5-Z5-AC5 -> 0 | D5: -500 | AI5: 500
A6: 42401 | C6: =SUM(D6:J6,L6,N6,AA6,AD6,AE6,AF6,AG6,AH6,AI6,AJ6,AK6,AL6,AM6,AN6,AO6,AP6,AQ6)-K6-M6-O6-P6-Q6-R6-S6-T6-U6-V6-W6-X6-Y6-Z6-AC6 -> 0 | D6: -10000 | L6: 10000
A7: 42415 | C7: =SUM(D7:J7,L7,N7,AA7,AD7,AE7,AF7,AG7,AH7,AI7,AJ7,AK7,AL7,AM7,AN7,AO7,AP7,AQ7)-K7-M7-O7-P7-Q7-R7-S7-T7-U7-V7-W7-X7-Y7-Z7-AC7 -> 0 | I7: 200 | P7: 200
A8: 42401 | C8: =SUM(D8:J8,L8,N8,AA8,AD8,AE8,AF8,AG8,AH8,AI8,AJ8,AK8,AL8,AM8,AN8,AO8,AP8,AQ8)-K8-M8-O8-P8-Q8-R8-S8-T8-U8-V8-W8-X8-Y8-Z8-AC8 -> 0 | D8: -500 | AI8: 500
A9: 42430 | C9: =SUM(D9:J9,L9,N9,AA9,AD9,AE9,AF9,AG9,AH9,AI9,AJ9,AK9,AL9,AM9,AN9,AO9,AP9,AQ9)-K9-M9-O9-P9-Q9-R9-S9-T9-U9-V9-W9-X9-Y9-Z9-AC9 -> 0 | D9: -5000 | G9: 5000
A10: 42430 | C10: =SUM(D10:J10,L10,N10,AA10,AD10,AE10,AF10,AG10,AH10,AI10,AJ10,AK10,AL10,AM10,AN10,AO10,AP10,AQ10)-K10-M10-O10-P10-Q10-R10-S10-T10-U10-V10-W10-X10-Y10-Z10-AC10 -> 0 | I10: =800 -> 800 | P10: 800
A11: 42430 | C11: =SUM(D11:J11,L11,N11,AA11,AD11,AE11,AF11,AG11,AH11,AI11,AJ11,AK11,AL11,AM11,AN11,AO11,AP11,AQ11)-K11-M11-O11-P11-Q11-R11-S11-T11-U11-V11-W11-X11-Y11-Z11-AC11 -> 0 | D11: -200 | P11: -200
A12: 42444 | C12: =SUM(D12:J12,L12,N12,AA12,AD12,AE12,AF12,AG12,AH12,AI12,AJ12,AK12,AL12,AM12,AN12,AO12,AP12,AQ12)-K12-M12-O12-P12-Q12-R12-S12-T12-U12-V12-W12-X12-Y12-Z12-AC12 -> 0 | D12: 300 | I12: -160 | AC12: 300 | AD12: 160
A13: 42444 | C13: =SUM(D13:J13,L13,N13,AA13,AD13,AE13,AF13,AG13,AH13,AI13,AJ13,AK13,AL13,AM13,AN13,AO13,AP13,AQ13)-K13-M13-O13-P13-Q13-R13-S13-T13-U13-V13-W13-X13-Y13-Z13-AC13 -> 0 | D13: 500 | Y13: 500
A14: 42444 | C14: =SUM(D14:J14,L14,N14,AA14,AD14,AE14,AF14,AG14,AH14,AI14,AJ14,AK14,AL14,AM14,AN14,AO14,AP14,AQ14)-K14-M14-O14-P14-Q14-R14-S14-T14-U14-V14-W14-X14-Y14-Z14-AC14 -> 0 | E14: 750 | Y14: 750
A15: 42461 | C15: =SUM(D15:J15,L15,N15,AA15,AD15,AE15,AF15,AG15,AH15,AI15,AJ15,AK15,AL15,AM15,AN15,AO15,AP15,AQ15)-K15-M15-O15-P15-Q15-R15-S15-T15-U15-V15-W15-X15-Y15-Z15-AC15 -> 0 | D15: 500 | E15: -500
A16: 42474 | C16: =SUM(D16:J16,L16,N16,AA16,AD16,AE16,AF16,AG16,AH16,AI16,AJ16,AK16,AL16,AM16,AN16,AO16,AP16,AQ16)-K16-M16-O16-P16-Q16-R16-S16-T16-U16-V16-W16-X16-Y16-Z16-AC16 -> 0 | D16: 250 | E16: -250
A17: 42475 | C17: =SUM(D17:J17,L17,N17,AA17,AD17,AE17,AF17,AG17,AH17,AI17,AJ17,AK17,AL17,AM17,AN17,AO17,AP17,AQ17)-K17-M17-O17-P17-Q17-R17-S17-T17-U17-V17-W17-X17-Y17-Z17-AC17 -> 0 | D17: 375 | I17: -200 | AC17: 375 | AD17: 200
A18: 42475 | C18: =SUM(D18:J18,L18,N18,AA18,AD18,AE18,AF18,AG18,AH18,AI18,AJ18,AK18,AL18,AM18,AN18,AO18,AP18,AQ18)-K18-M18-O18-P18-Q18-R18-S18-T18-U18-V18-W18-X18-Y18-Z18-AC18 -> 0 | D18: 90 | I18: -30 | AC18: 90 | AD18: 30
A19: 42475 | C19: =SUM(D19:J19,L19,N19,AA19,AD19,AE19,AF19,AG19,AH19,AI19,AJ19,AK19,AL19,AM19,AN19,AO19,AP19,AQ19)-K19-M19-O19-P19-Q19-R19-S19-T19-U19-V19-W19-X19-Y19-Z19-AC19 -> 0 | D19: -5000 | AE19: 5000
A20: 42491 | C20: =SUM(D20:J20,L20,N20,AA20,AD20,AE20,AF20,AG20,AH20,AI20,AJ20,AK20,AL20,AM20,AN20,AO20,AP20,AQ20)-K20-M20-O20-P20-Q20-R20-S20-T20-U20-V20-W20-X20-Y20-Z20-AC20 -> 0 | D20: 100000 | X20: 100000
A21: 42521 | C21: =SUM(D21:J21,L21,N21,AA21,AD21,AE21,AF21,AG21,AH21,AI21,AJ21,AK21,AL21,AM21,AN21,AO21,AP21,AQ21)-K21-M21-O21-P21-Q21-R21-S21-T21-U21-V21-W21-X21-Y21-Z21-AC21 -> 0 | D21: 5500 | Y21: 5500
A22: 42521 | C22: =SUM(D22:J22,L22,N22,AA22,AD22,AE22,AF22,AG22,AH22,AI22,AJ22,AK22,AL22,AM22,AN22,AO22,AP22,AQ22)-K22-M22-O22-P22-Q22-R22-S22-T22-U22-V22-W22-X22-Y22-Z22-AC22 -> 0 | E22: 5500 | Y22: 5500
A23: 42521 | C23: =SUM(D23:J23,L23,N23,AA23,AD23,AE23,AF23,AG23,AH23,AI23,AJ23,AK23,AL23,AM23,AN23,AO23,AP23,AQ23)-K23-M23-O23-P23-Q23-R23-S23-T23-U23-V23-W23-X23-Y23-Z23-AC23 -> 0 | D23: -1000 | AH23: 1000
A24: 42526 | C24: =SUM(D24:J24,L24,N24,AA24,AD24,AE24,AF24,AG24,AH24,AI24,AJ24,AK24,AL24,AM24,AN24,AO24,AP24,AQ24)-K24-M24-O24-P24-Q24-R24-S24-T24-U24-V24-W24-X24-Y24-Z24-AC24 -> 0 | D24: -8000 | AG24: 8000
A25: 42536 | C25: =SUM(D25:J25,L25,N25,AA25,AD25,AE25,AF25,AG25,AH25,AI25,AJ25,AK25,AL25,AM25,AN25,AO25,AP25,AQ25)-K25-M25-O25-P25-Q25-R25-S25-T25-U25-V25-W25-X25-Y25-Z25-AC25 -> 0 | D25: 5500 | E25: -5500
A26: 42536 | C26: =SUM(D26:J26,L26,N26,AA26,AD26,AE26,AF26,AG26,AH26,AI26,AJ26,AK26,AL26,AM26,AN26,AO26,AP26,AQ26)-K26-M26-O26-P26-Q26-R26-S26-T26-U26-V26-W26-X26-Y26-Z26-AC26 -> 0 | D26: 120 | I26: -40 | AC26: 120 | AD26: 40
A27: 42551 | C27: =SUM(D27:J27,L27,N27,AA27,AD27,AE27,AF27,AG27,AH27,AI27,AJ27,AK27,AL27,AM27,AN27,AO27,AP27,AQ27)-K27-M27-O27-P27-Q27-R27-S27-T27-U27-V27-W27-X27-Y27-Z27-AC27 -> 0 | D27: 4400 | Y27: 4400
A28: 42551 | C28: =SUM(D28:J28,L28,N28,AA28,AD28,AE28,AF28,AG28,AH28,AI28,AJ28,AK28,AL28,AM28,AN28,AO28,AP28,AQ28)-K28-M28-O28-P28-Q28-R28-S28-T28-U28-V28-W28-X28-Y28-Z28-AC28 -> 0 | E28: 5500 | Y28: 5500
A29: 42551 | C29: =SUM(D29:J29,L29,N29,AA29,AD29,AE29,AF29,AG29,AH29,AI29,AJ29,AK29,AL29,AM29,AN29,AO29,AP29,AQ29)-K29-M29-O29-P29-Q29-R29-S29-T29-U29-V29-W29-X29-Y29-Z29-AC29 -> 0 | F29: 1000 | P29: 1000
A30: 42551 | C30: =SUM(D30:J30,L30,N30,AA30,AD30,AE30,AF30,AG30,AH30,AI30,AJ30,AK30,AL30,AM30,AN30,AO30,AP30,AQ30)-K30-M30-O30-P30-Q30-R30-S30-T30-U30-V30-W30-X30-Y30-Z30-AC30 -> 0 | D30: -6000 | Q30: -4000 | AQ30: 2000
A31: 42551 | C31: =SUM(D31:J31,L31,N31,AA31,AD31,AE31,AF31,AG31,AH31,AI31,AJ31,AK31,AL31,AM31,AN31,AO31,AP31,AQ31)-K31-M31-O31-P31-Q31-R31-S31-T31-U31-V31-W31-X31-Y31-Z31-AC31 -> 0 | D31: -1000 | AH31: 1000
C32: =SUM(D32:J32,L32,N32,AA32,AD32,AE32,AF32,AG32,AH32,AI32,AJ32,AK32,AL32,AM32,AN32,AO32,AP32,AQ32)-K32-M32-O32-P32-Q32-R32-S32-T32-U32-V32-W32-X32-Y32-Z32-AC32 -> 0 | D32: =SUM(D3:D31) -> 140335 | E32: =SUM(E3:E31) -> 5500 | F32: =SUM(F3:F31) -> 1000 | G32: =SUM(G3:G31) -> 5000 | H32: =SUM(H3:H31) -> 0 | I32: =SUM(I3:I31) -> 570 | J32: =SUM(J3:J31) -> 16000 | K32: =SUM(K3:K31) -> 0 | ... AQ32: =SUM(AQ3:AQ31) -> 2000

Sheet journal entries
A1: GENERAL JOURNAL
A2: Journal entries
A4: Date | C4: Post
A5: 2016 | B5: Description | C5: Ref | D5: DR | E5: CR
A6: 43101 | B6: Cash | D6: 10000
B7: Truck | D7: 16000
B8: Common stock | E8: 26000
A10: 43131 | B10: Cash | D10: 50000
B11: Notes payable | E11: 50000
A13: 43131 | B13: Rent expense | D13: 500
B14: Cash | E14: 500
A16: 43132 | B16: Equipment | D16: 10000
B17: Cash | E17: 10000
A19: 43146 | B19: Inventory | D19: 200
B20: Accounts payable | E20: 200
A22: 43132 | B22: Rent expense | D22: 500
B23: Cash | E23: 500
A25: 43160 | B25: Prepaid rent | D25: 5000
B26: Cash | E26: 5000
A28: 43160 | B28: Inventory | D28: 800
B29: Accounts payable | E29: 800
A31: 43160 | B31: Accounts payable | D31: 200
B32: Cash | E32: 200
A34: 43174 | B34: Cash | D34: =20*15 -> 300
B35: Sales | E35: =20*15 -> 300
B37: Cost of goods sold | D37: =20*8 -> 160
B38: Inventory | E38: =20*8 -> 160
A40: 43174 | B40: Cash | D40: 500
B41: Service revenue | E41: 500
A43: 43174 | B43: Accounts receivable | D43: 750
B44: Service revenue | E44: 750
A46: 42826 | B46: Cash | D46: 500
B47: Accounts receivable | E47: 500
A49: 42839 | B49: Cash | D49: 250
B50: Accounts receivable | E50: 250
A52: 42840 | B52: Cash | D52: 375
B53: Sales | E53: 375
B55: Cost of goods sold | D55: 200
B56: Inventory | E56: 200
A58: 42840 | B58: Cash | D58: 90
...

Sheet Adjusting entries
A1: GENERAL JOURNAL
A2: Adjusting entries
A4: Date | C4: Post
A5: 2016 | B5: Description | C5: Ref | D5: DR | E5: CR
A6: 42916 | B6: Depreciation Expense-Truck | D6: =16000/4/2 -> 2000
B7: Accumulated Depreciation-Truck | E7: =16000/4/2 -> 2000
A9: 42916 | B9: Depreciation Expense-Equipment | D9: =(10000-1000)/3*5/12 -> 1250
B10: Accumulated Depreciation-Equipment | E10: =(10000-1000)/3*5/12 -> 1250
A12: 42916 | B12: Unearned revenue | D12: =100000*2/5 -> 40000
B13: Service revenue | E13: =100000*2/5 -> 40000
A15: 42916 | B15: Rent expense | D15: =500*4 -> 2000
B16: Prepaid rent | E16: =500*4 -> 2000
A18: 42916 | B18: Wages expense | D18: 7500
B19: Wages payable | E19: 7500

Sheet closing entries
A1: GENERAL JOURNAL
A2: Closing entries
A4: Date | D4: Post
A5: 2016 | B5: Description | D5: Ref | E5: DR | F5: CR
A6: 42916 | B6: Sales | E6: =885 -> 885
B7: Service revenue | E7: 62150
B8: Income summary | C8: Income summary | F8: =E6+E7 -> 63035
A10: 42916 | B10: Income summary | E10: =SUM(F11:F18) -> 31180
C11: Cost of goods sold | F11: 430
C12: Advertising Expense | F12: 5000
C13: Depreciation Expense-Truck | F13: 2000
C14: Wages Expense | F14: 15500
C15: Fuel expense | F15: 2000
C16: Rent Expense | F16: 3000
C17: Depreciation Expense-Equipment | F17: 1250
C18: Interest Expense | F18: 2000

Sheet Balance Sheet (2)
A1: ='Income statement'!A1 -> Lay's Lush Landscape Sales & Service, Inc.
A2: Balance Sheet
A3: June 30, 2016
A6: ASSETS
A8: Current Assets
B9: Cash | G9: 140335
B10: Accounts receivable | G10: 5500
B11: Supplies | G11: 1000
B12: Prepaid Rent | G12: 3000
B13: Inventory | G13: 570
B14: Total current assets | H14: =SUM(G9:G13) -> 150405
A16: Property and equipment
B17: Truck | F17: 16000
B18: Less: Accumulated depreciation-Truck | F18: -2000 | G18: =F17+F18 -> 14000
B19: Equipment | F19: 10000
B20: Less: Accumulated depreciation-Equipment | F20: -1250 | G20: =F19+F20 -> 8750
B21: Total property and equipment | H21: =SUM(G17:G20) -> 22750
A22: Total assets | H22: =SUM(H14:H21) -> 173155
A25: LIABILITIES AND EQUITY
A27: Current liabilities
B28: Accounts Payable | G28: 1800
B29: Notes Payable - current portion | G29: 8000
B30: Wages payable | G30: 7500
B31: Unearned revenue | G31: 60000
B32: Total current liabilities | H32: =SUM(G28:G31) -> 77300
A34: Long-term liabilities
B35: Notes payable | H35: =46000-8000 -> 38000
A36: Total liabilities | H36: =H32+H35 -> 115300
A38: Equity
B39: Common stock, $1 par, 26,000 shares issued and outstanding | G39: 26000
B40: Retained earnings | G40: ='Income statement'!H24 -> 31855
B41: Total equity | H41: =G39+G40 -> 57855
A42: Total liabilities and equity | H42: =H41+H36 -> 173155

Sheet Ledger
A1: LEDGERS
C2: Cash | G2: Accounts receivable | K2: Supplies | O2: Prepaid Rent | S2: Inventory | W2: Truck | AA2: Accumulated Depreciation-Truck | AE2: Equipment | AI2: Accumulated Depreciation-Equipment | AM2: Accounts Payable | AQ2: Notes payable | AU2: Wages payable | AY2: Unearned Revenue | BC2: Common Stock | BF2: Service Revenue | BK2: Sales | BO2: Cost of Goods Sold | BS2: Advertising Expense | BW2: Depreciation Expense-Truck | CA2: Wages Expense | CE2: Fuel expense | CI2: Rent Expense | CM2: Depreciation Expense-Equipment | CR2: Interest Expense | CU2: Retained Earnings | CX2: Income Summary
A3: Date | C3: Debit | D3: Credit | E3: Balance | F3: Cash | G3: Debit | H3: Credit | I3: Balance | J3: Accounts receivable | K3: Debit | L3: Credit | M3: Balance | N3: Supplies | O3: Debit | P3: Credit | Q3: Balance | R3: Prepaid Rent | S3: Debit | T3: Credit | U3: Balance | V3: Inventory | W3: Debit | X3: Credit | Y3: Balance | Z3: Truck | AA3: Debit | AB3: Credit | AC3: Balance | AD3: Accumulated Depreciation-Truck | AE3: Debit | AF3: Credit | AG3: Balance | AH3: Equipment | AI3: Debit | AJ3: Credit | AK3: Balance | AL3: Accumulated Depreciation-Equipment | AM3: Debit | AN3: Credit | AO3: Balance | AP3: Accounts Payable | AQ3: Debit | AR3: Credit | AS3: Balance | AT3: Notes payable | AU3: Debit | AV3: Credit | AW3: Balance | AX3: Wages payable | AY3: Debit | AZ3: Credit | BA3: Balance | BB3: Unearned Revenue | BC3: Debit | BD3: Credit | BE3: Balance | BF3: Debit | BG3: Credit | BH3: Balance | BI3: Service Revenue | BJ3: Common Stock | BK3: Debit | BL3: Credit | BM3: Balance | BN3: Sales | BO3: Debit | BP3: Credit | BQ3: Balance | BR3: Cost of Goods Sold | BS3: Debit | BT3: Credit | BU3: Balance | BV3: Advertising Expense | BW3: Debit | BX3: Credit | BY3: Balance | BZ3: Depreciation Expense-Truck | CA3: Debit | CB3: Credit | CC3: Balance | CD3: Wages Expense | CE3: Debit | CF3: Credit | CG3: Balance | CH3: Fuel expense | CI3: Debit | CJ3: Credit | CK3: Balance | CL3: Rent Expense | CM3: Debit | CN3: Credit | CO3: Balance | CP3: Depreciation Expense-Equipment | CQ3: Interest Expense | CR3: Debit | CS3: Credit | CT3: Balance | CU3: Debit | CV3: Credit | CW3: Balance | CX3: Debit | CY3: Credit | CZ3: Balance
A4: 42370 | C4: 10000 | E4: =C4-D4 -> 10000 | F4: 10000 | W4: 16000 | Y4: =W4-X4 -> 16000 | Z4: 16000 | BD4: 26000 | BE4: =BD4-BC4 -> 26000 | BJ4: 26000
A5: 42400 | C5: 50000 | E5: =E4+C5-D5 -> 60000 | F5: 50000 | AR5: 50000 | AS5: =AR5-AQ5 -> 50000 | AT5: 50000
A6: 42400 | D6: 500 | E6: =E5+C6-D6 -> 59500 | F6: -500 | CI6: 500 | CK6: =CI6-CJ6 -> 500 | CL6: 500
A7: 42401 | D7: 10000 | E7: =E6+C7-D7 -> 49500 | F7: -10000 | AE7: 10000 | AG7: =AE7-AF7 -> 10000 | AH7: 10000
A8: 42415 | S8: 200 | U8: =S8-T8 -> 200 | V8: 200 | AN8: 200 | AO8: =AN8-AM8 -> 200 | AP8: 200
A9: 42401 | D9: 500 | E9: =E7+C9-D9 -> 49000 | F9: -500 | CI9: 500 | CK9: =CK6+CI9-CJ9 -> 1000 | CL9: 500
A10: 42430 | D10: 5000 | E10: =E9+C10-D10 -> 44000 | F10: -5000 | O10: 5000 | Q10: =O10-P10 -> 5000 | R10: 5000
A11: 42430 | S11: 800 | U11: =U8+S11-T11 -> 1000 | V11: =800 -> 800 | AN11: 800 | AO11: =AO8+AN11-AM11 -> 1000 | AP11: 800
A12: 42430 | D12: 200 | E12: =E10+C12-D12 -> 43800 | F12: -200 | AM12: 200 | AO12: =AO11+AN12-AM12 -> 800 | AP12: -200
A13: 42444 | C13: 300 | E13: =E12+C13-D13 -> 44100 | F13: 300 | T13: 160 | U13: =U11+S13-T13 -> 840 | V13: -160 | BL13: 300 | BM13: =BL13-BK13 -> 300 | BN13: 300 | BO13: 160 | BQ13: =BO13-BP13 -> 160 | BR13: 160
A14: 42444 | C14: 500 | E14: =E13+C14-D14 -> 44600 | F14: 500 | BG14: 500 | BH14: =BG14-BF14 -> 500 | BI14: 500
A15: 42444 | G15: 750 | I15: =G15-H15 -> 750 | J15: 750 | BG15: 750 | BH15: =BH14+BG15-BF15 -> 1250 | BI15: 750
A16: 42461 | C16: 500 | E16: =E14+C16-D16 -> 45100 | F16: 500 | H16: 500 | I16: =I15+G16-H16 -> 250 | J16: -500
A17: 42474 | C17: 250 | E17: =E16+C17-D17 -> 45350 | F17: 250 | H17: 250 | I17: =I16+G17-H17 -> 0 | J17: -250
A18: 42475 | C18: 375 | E18: =E17+C18-D18 -> 45725 | F18: 375 | T18: 200 | U18: =U13+S18-T18 -> 640 | V18: -200 | BL18: 375 | BM18: =BM13+BL18-BK18 -> 675 | BN18: 375 | BO18: 200 | BQ18: =BQ13+BO18-BP18 -> 360 | BR18: 200
A19: 42475 | C19: 90 | E19: =E18+C19-D19 -> 45815 | F19: 90 | T19: 30 | U19: =U18+S19-T19 -> 610 | V19: -30 | BL19: 90 | BM19: =BM18+BL19-BK19 -> 765 | BN19: 90 | BO19: 30 | BQ19: =BQ18+BO19-BP19 -> 390 | BR19: 30
A20: 42475 | D20: 5000 | E20: =E19+C20-D20 -> 40815 | F20: -5000 | BS20: 5000 | BU20: =BS20-BT20 -> 5000 | BV20: 5000
A21: 42491 | C21: 100000 | E21: =E20+C21-D21 -> 140815 | F21: 100000 | AZ21: 100000 | BA21: =AZ21-AY21 -> 100000 | BB21: 100000
A22: 42521 | C22: 5500 | E22: =E21+C22-D22 -> 146315 | F22: 5500 | BG22: 5500 | BH22: =BH15+BG22-BF22 -> 6750 | BI22: 5500
A23: 42521 | G23: 5500 | I23: =I17+G23-H23 -> 5500 | J23: 5500 | BG23: 5500 | BH23: =BH22+BG23-BF23 -> 12250 | BI23: 5500
A24: 42521 | D24: 1000 | E24: =E22+C24-D24 -> 145315 | F24: -1000 | CE24: 1000 | CG24: =CE24-CF24 -> 1000 | CH24: 1000
A25: 42526 | D25: 8000 | E25: =E24+C25-D25 -> 137315 | F25: -8000 | CA25: 8000 | CC25: =CA25-CB25 -> 8000 | CD25: 8000
A26: 42536 | C26: 5500 | E26: =E25+C26-D26 -> 142815 | F26: 5500 | H26: 5500 | I26: =I23+G26-H26 -> 0 | J26: -5500
A27: 42536 | C27: 120 | E27: =E26+C27-D27 -> 142935 | F27: 120 | T27: 40 | U27: =U19+S27-T27 -> 570 | V27: -40 | BL27: 120 | BM27: =BM19+BL27-BK27 -> 885 | BN27: 120 | BO27: 40 | BQ27: =BQ19+BO27-BP27 -> 430 | BR27: 40
A28: 42551 | C28: 4400 | E28: =E27+C28-D28 -> 147335 | F28: 4400 | BG28: 4400 | BH28: =BH23+BG28-BF28 -> 16650 | BI28: 4400
A29: 42551 | G29: 5500 | I29: =I26+G29-H29 -> 5500 | J29: 5500 | BG29: 5500 | BH29: =BH28+BG29-BF29 -> 22150 | BI29: 5500
A30: 42551 | K30: 1000 | M30: =K30-L30 -> 1000 | N30: 1000 | AN30: 1000 | AO30: =AO12+AN30-AM30 -> 1800 | AP30: 1000
A31: 42551 | D31: 6000 | E31: =E28+C31-D31 -> 141335 | F31: -6000 | AQ31: 4000 | AS31: =AS5+AR31-AQ31 -> 46000 | AT31: -4000 | CQ31: 2000 | CR31: 2000 | CT31: =CR31-CS31 -> 2000
A32: 42551 | D32: 1000 | E32: =E31+C32-D32 -> 140335 | F32: -1000 | CE32: 1000 | CG32: =CG24+CE32-CF32 -> 2000 | CH32: 1000
A33: 42551 | AB33: 2000 | AC33: =AB33-AA33 -> 2000 | AD33: 2000 | BW33: 2000 | BY33: =BW33-BX33 -> 2000 | BZ33: 2000
A34: 42551 | AJ34: 1250 | AK34: =AJ34-AI34 -> 1250 | AL34: 1250 | CM34: 1250 | CO34: =CM34-CN34 -> 1250 | CP34: 1250
A35: 42551 | AY35: 40000 | BA35: =BA21+AZ35-AY35 -> 60000 | BB35: -40000 | BG35: 40000 | BH35: =BH29+BG35-BF35 -> 62150 | BI35: 40000
A36: 42551 | P36: 2000 | Q36: =Q10+O36-P36 -> 3000 | R36: -2000 | CI36: 2000 | CK36: =CK9-CJ36+CI36 -> 3000 | CL36: 2000
A37: 42551 | AV37: 7500 | AW37: =AV37-AU37 -> 7500 | AX37: 7500 | CA37: 7500 | CC37: =CC25+CA37-CB37 -> 15500 | CD37: 7500
F38: =SUM(F4:F37) -> 140335 | J38: =SUM(J4:J37) -> 5500 | N38: =SUM(N4:N37) -> 1000 | R38: =SUM(R4:R37) -> 3000 | V38: =SUM(V4:V37) -> 570 | Z38: =SUM(Z4:Z37) -> 16000 | AD38: =SUM(AD4:AD37) -> 2000 | AH38: =SUM(AH4:AH37) -> 10000 | AL38: =SUM(AL4:AL37) -> 1250 | AP38: =SUM(AP4:AP37) -> 1800 | AT38: =SUM(AT4:AT37) -> 46000 | AX38: =SUM(AX4:AX37) -> 7500 | BB38: =SUM(BB4:BB37) -> 60000 | BI38: =SUM(BI4:BI37) -> 62150 | BJ38: =SUM(BJ4:BJ37) -> 26000 | BN38: =SUM(BN4:BN37) -> 885 | BR38: =SUM(BR4:BR37) -> 430 | BV38: =SUM(BV4:BV37) -> 5000 | BZ38: =SUM(BZ4:BZ37) -> 2000 | CD38: =SUM(CD4:CD37) -> 15500 | CH38: =SUM(CH4:CH37) -> 2000 | CL38: =SUM(CL4:CL37) -> 3000 | CP38: =SUM(CP4:CP37) -> 1250 | CQ38: =SUM(CQ4:CQ37) -> 2000
A39: 42551 | BF39: =BH35 -> 62150 | BH39: 0 | BK39: 885 | BM39: 0 | BP39: 430 | BQ39: 0 | BT39: 5000 | BU39: 0 | BX39: 2000 | BY39: 0 | CB39: 15500 | CC39: 0 | CF39: 2000 | CG39: 0 | CJ39: 3000 | CK39: 0 | CN39: 1250 | CO39: 0 | CS39: 2000 | CT39: 0 | CX39: ='closing entries'!E10 -> 31180 | CY39: ='closing entries'!F8 -> 63035 | CZ39: =CY39-CX39 -> 31855
A40: 42551 | CV40: =CX40 -> 31855 | CW40: =CV40-CU40 -> 31855 | CX40: 31855 | CZ40: =CZ39+CY40-CX40 -> 0

Sheet unadjusted TB
A1: Lay's Lush Landscape Sales & Service, Inc.
A2: Unadjusted Trial Balance
A3: For the Six-Month Ended June 30, 2016
D5: Unadjusted Trial Balance
A6: Account Title | D6: DR | E6: CR
A7: Cash | D7: 140335
A8: Accounts receivable | D8: 5500
A9: Supplies | D9: 1000
A10: Prepaid Rent | D10: 5000
A11: Inventory | D11: 570
A12: Truck | D12: 16000
A13: Accumulated depreciation-Truck
A14: Equipment | D14: 10000
A15: Accumulated depreciation-Equipment
A16: Accounts Payable | E16: 1800
A17: Notes Payable | E17: 46000
A18: Wages payable
A19: Unearned revenue | E19: 100000
A20: Common stock | E20: 26000
A21: Service revenue | E21: 22150
A22: Sales | E22: 885
A23: Cost of goods sold | D23: 430
A24: Advertising Expense | D24: 5000
A25: Depreciation Expense-Truck
A26: Wages Expense | D26: 8000
A27: Fuel expense | D27: 2000
A28: Rent Expense | D28: 1000
A29: Depreciation Expense-Equipment
A30: Interest Expense | D30: =summary!AQ32 -> 2000
D31: =SUM(D7:D30) -> 196835 | E31: =SUM(E7:E30) -> 196835

Sheet Adjusted TB
A1: Lay's Lush Landscape Sales & Service, Inc.
A2: Adjusted Trial Balance
A3: For the Six-Month Ended June 30, 2016
D5: Unadjusted Trial Balance | F5: Adjustments | H5: Adjusted Trial Balance | J5: Income Statement | L5: Balance Sheet
A6: Account Title | D6: DR | E6: CR | F6: DR | G6: CR | H6: DR | I6: CR | J6: DR | K6: CR | L6: DR | M6: CR
A7: Cash | D7: 140335 | H7: =D7+F7-E7-G7 -> 140335
A8: Accounts receivable | D8: 5500 | H8: =D8+F8-E8-G8 -> 5500
A9: Supplies | D9: 1000 | H9: =D9+F9-E9-G9 -> 1000
A10: Prepaid Rent | D10: 5000 | G10: 2000 | H10: =D10+F10-E10-G10 -> 3000
A11: Inventory | D11: 570 | H11: =D11+F11-E11-G11 -> 570
A12: Truck | D12: 16000 | H12: =D12+F12-E12-G12 -> 16000
A13: Accumulated depreciation-Truck | G13: 2000 | I13: =G13+E13-F13-D13 -> 2000
A14: Equipment | D14: 10000 | H14: =D14+F14-E14-G14 -> 10000
A15: Accumulated depreciation-Equipment | G15: 1250 | I15: =G15+E15-F15-D15 -> 1250
A16: Accounts Payable | E16: 1800 | I16: =E16+G16-D16-F16 -> 1800
A17: Notes Payable | E17: 46000 | I17: =E17+G17-D17-F17 -> 46000
A18: Wages payable | G18: 7500 | I18: =E18+G18-D18-F18 -> 7500
A19: Unearned revenue | E19: 100000 | F19: 40000 | I19: =E19+G19-D19-F19 -> 60000
A20: Common stock | E20: 26000 | I20: =E20+G20-D20-F20 -> 26000
A21: Service revenue | E21: 22150 | G21: 40000 | I21: =E21+G21-D21-F21 -> 62150
A22: Sales | E22: 885 | I22: =E22+G22-D22-F22 -> 885
A23: Cost of goods sold | D23: 430 | H23: =D23+F23-E23-G23 -> 430
A24: Advertising Expense | D24: 5000 | H24: =D24+F24-E24-G24 -> 5000
A25: Depreciation Expense-Truck | F25: 2000 | H25: =D25+F25-E25-G25 -> 2000
A26: Wages Expense | D26: 8000 | F26: 7500 | H26: =D26+F26-E26-G26 -> 15500
A27: Fuel expense | D27: 2000 | H27: =D27+F27-E27-G27 -> 2000
A28: Rent Expense | D28: 1000 | F28: 2000 | H28: =D28+F28-E28-G28 -> 3000
A29: Depreciation Expense-Equipment | F29: 1250 | H29: =D29+F29-E29-G29 -> 1250
A30: Interest Expense | D30: =summary!AQ32 -> 2000 | H30: =D30+F30-E30-G30 -> 2000
D31: =SUM(D7:D30) -> 196835 | E31: =SUM(E7:E30) -> 196835 | F31: =SUM(F7:F30) -> 52750 | G31: =SUM(G7:G30) -> 52750 | H31: =SUM(H7:H30) -> 207585 | I31: =SUM(I7:I30) -> 207585 | J31: =SUM(J29:J30) -> 0 | K31: =SUM(K29:K30) -> 0 | L31: =SUM(L7:L28) -> 0 | M31: =SUM(M7:M28) -> 0
J32: =K31-J31 -> 0 | M32: =J32 -> 0
J33: =SUM(J31:J32) -> 0 | K33: =SUM(K31:K32) -> 0 | L33: =SUM(L31:L32) -> 0 | M33: =SUM(M31:M32) -> 0
J34: =J33-K33 -> 0 | L34: =L33-M33 -> 0

Sheet Income statement
A1: ='Adjusted TB'!A1 -> Lay's Lush Landscape Sales & Service, Inc.
A2: Income Statement
A3: For the Six-month ended June 30, 2016
A6: REVENUES
A7: Service Revenue | G7: ='Adjusted TB'!I21 -> 62150
A8: Sales | G8: 885 | H8: =G7+G8 -> 63035
A9: Less: Cost of goods sold | H9: ='Adjusted TB'!H23 -> 430
A10: GROSS MARGIN / PROFIT | H10: =H8-H9 -> 62605
A11: OPERATING EXPENSES
B12: Advertising Expense | G12: 5000
B13: Depreciation Expense-Truck | G13: 2000
B14: Wages Expense | G14: 15500
B15: Fuel expense | G15: 2000
B16: Rent Expense | G16: 3000
B17: Depreciation Expense-Equipment | G17: 1250
B18: Total Operating Expenses | H18: =SUM(G12:G17) -> 28750
A20: OPERATING INCOME | H20: =H10-H18 -> 33855
A21: Other revenues (expenses):
B22: Interest Expense | H22: -2000
A24: NET INCOME BEFORE TAX | H24: =H20+H22 -> 31855

Sheet Retained earnings
A1: ='Income statement'!A1 -> Lay's Lush Landscape Sales & Service, Inc.
A2: Statement of Retained Earnings
A3: ='Income statement'!A3 -> For the Six-month ended June 30, 2016
A6: Retained earnings, January 1 | F6: 0
A7: Add: Net income for the period | F7: ='Income statement'!H24 -> 31855
A8: Retained earnings, June 30 | F8: =SUM(F6:F7) -> 31855

Sheet Balance Sheet
A1: ='Income statement'!A1 -> Lay's Lush Landscape Sales & Service, Inc.
A2: Balance Sheet
A3: June 30, 2016
A6: ASSETS
A8: Current Assets
B9: Cash | G9: 140335
B10: Accounts receivable | G10: 5500
B11: Supplies | G11: 1000
B12: Prepaid Rent | G12: 3000
B13: Inventory | G13: 570
B14: Total current assets | H14: =SUM(G9:G13) -> 150405
A16: Property and equipment
B17: Truck | F17: 16000
B18: Less: Accumulated depreciation-Truck | F18: -2000 | G18: =F17+F18 -> 14000
B19: Equipment | F19: 10000
B20: Less: Accumulated depreciation-Equipment | F20: -1250 | G20: =F19+F20 -> 8750
B21: Total property and equipment | H21: =SUM(G17:G20) -> 22750
A22: Total assets | H22: =SUM(H14:H21) -> 173155
A25: LIABILITIES AND EQUITY
A27: Current liabilities
B28: Accounts Payable | G28: 1800
B29: Notes Payable - current portion | G29: 8000
B30: Wages payable | G30: 7500
B31: Unearned revenue | G31: 60000
B32: Total current liabilities | H32: =SUM(G28:G31) -> 77300
A34: Long-term liabilities
B35: Notes payable | H35: =46000-8000 -> 38000
A36: Total liabilities | H36: =H32+H35 -> 115300
A38: Equity
B39: Common stock, $1 par, 26,000 shares issued and outstanding | G39: 26000
B40: Retained earnings | G40: ='Income statement'!H24 -> 31855
B41: Total equity | H41: =G39+G40 -> 57855
A42: Total liabilities and equity | H42: =H41+H36 -> 173155

Sheet Cash flow
A1: ='Balance Sheet'!A1 -> Lay's Lush Landscape Sales & Service, Inc.
A2: Statement of Cash Flows
A3: ='Income statement'!A3 -> For the Six-month ended June 30, 2016
H4: June 30
H5: 2016
A6: CASH FLOWS FROM OPERATING ACTIVITIES
B7: Net income (loss) before tax | H7: ='Income statement'!H24 -> 31855
B8: Adjustments to reconcile net income (loss) to net cash
B9: provided by operating activities:
B10: Depreciation expense | H10: =2000+1250 -> 3250
B11: Decrease (Increase) in Accounts Receivable | H11: =-'Balance Sheet'!G10 -> -5500
B12: Decrease (Increase) in Supplies | H12: =-'Balance Sheet'!G11 -> -1000
B13: Decrease (Increase) in Prepaid rent | H13: -3000
B14: Decrease (Increase) in Inventory | H14: =-'Balance Sheet'!G13 -> -570
B15: Increase (Decrease) in Accounts Payable | H15: ='Balance Sheet'!G28 -> 1800
B16: Increase (Decrease) in Wages Payable | H16: 7500
B17: Increase (Decrease) in Unearned revenue | H17: 60000
C18: NET CASH PROVIDED BY OPERATING ACTIVITIES | H18: =SUM(H7:H17) -> 94335
A20: CASH FLOWS FROM INVESTING ACTIVITIES
B21: Purchase of equipment | H21: -10000
C22: NET CASH USED BY INVESTING ACTIVITIES | H22: =SUM(H21:H21) -> -10000
A24: CASH FLOWS FROM FINANCING ACTIVITIES
B25: Common stock issuance | H25: 10000
B26: Notes Payable | H26: 46000
C27: NET CASH PROVIDED BY FINANCING ACTIVITIES | H27: =SUM(H25:H26) -> 56000
A28: NET INCREASE IN CASH | H28: =H27+H22+H18 -> 140335
A29: ADD: CASH BEGINNING | H29: 0
A30: CASH ENDING | H30: =H28+H29 -> 140335
A32: Non-cash investing and financing activities:
B33: Acquisition of truck in exchange for common stock | H33: =16000 -> 16000

Sheet Post closing TB
A1: Lay's Lush Landscape Sales & Service, Inc.
A2: Post-closing Trial Balance
A3: For the Six-Month Ended June 30, 2016
D5: Adjusted Trial Balance | F5: Closing entries | H5: Post-closing Trial Balance
A6: Account Title | D6: DR | E6: CR | F6: DR | G6: CR | H6: DR | I6: CR
A7: Cash | D7: 140335 | H7: 140335
A8: Accounts receivable | D8: 5500 | H8: 5500
A9: Supplies | D9: 1000 | H9: 1000
A10: Prepaid Rent | D10: 3000 | H10: 3000
A11: Inventory | D11: 570 | H11: 570
A12: Truck | D12: 16000 | H12: 16000
A13: Accumulated depreciation-Truck | E13: 2000 | I13: 2000
A14: Equipment | D14: 10000 | H14: 10000
A15: Accumulated depreciation-Equipment | E15: 1250 | I15: 1250
A16: Accounts Payable | E16: 1800 | I16: 1800
A17: Notes Payable | E17: 46000 | I17: 46000
A18: Wages payable | E18: 7500 | I18: 7500
A19: Unearned revenue | E19: 60000 | I19: 60000
A20: Common stock | E20: 26000 | I20: 26000
A21: Retained earnings | G21: =F33 -> 31855 | I21: =G21 -> 31855
A22: Service revenue | E22: 62150 | F22: 62150
A23: Sales | E23: 885 | F23: 885
A24: Cost of goods sold | D24: 430 | G24: 430
A25: Advertising Expense | D25: 5000 | G25: 5000
A26: Depreciation Expense-Truck | D26: 2000 | G26: 2000
A27: Wages Expense | D27: 15500 | G27: 15500
A28: Fuel expense | D28: 2000 | G28: 2000
A29: Rent Expense | D29: 3000 | G29: 3000
A30: Depreciation Expense-Equipment | D30: 1250 | G30: 1250
A31: Interest Expense | D31: 2000 | G31: 2000
A32: Income summary | F32: =SUM(G24:G31) -> 31180 | G32: =F22+F23 -> 63035
A33: Income summary | F33: =G32-F32 -> 31855 | I33: =G32-F33-F32 -> 0
D34: 207585 | E34: 207585 | F34: =SUM(F7:F33) -> 126070 | G34: =SUM(G7:G33) -> 126070 | H34: =SUM(H7:H33) -> 176405 | I34: =SUM(I7:I33) -> 176405

Sheet Analysis
A1: Financial analysis
A3: a) | B3: Current ratio
B5: Current assets | E5: ='Balance Sheet'!H14 -> 150405
B6: Current liabilities | E6: ='Balance Sheet'!H32 -> 77300
D8: = | E8: =E5/E6 -> 1.9457309
A11: b) | B11: Quick ratio
B13: Quick assets | E13: =E5-'Balance Sheet'!G11-'Balance Sheet'!G12-'Balance Sheet'!G13 -> 145835
B14: Current liabilities | E14: =E6 -> 77300
D16: = | E16: =E13/E14 -> 1.8866106
A18: c) | B18: Profit margin
B20: Net income | E20: ='Income statement'!H24 -> 31855
B21: Net sales | E21: ='Income statement'!H8 -> 63035
D23: = | E23: =E20/E21 -> 0.50535417
A26: d) | B26: Return on assets
B28: Net income | E28: =E20 -> 31855
B29: Total assets* | E29: ='Balance Sheet'!H22 -> 173155
D31: = | E31: =E28/E29 -> 0.18396812
A33: * | B33: Total assets was used instead of average total assets
B34: because the Company just started its business and
B35: there is no beginning total assets employed unlike
B36: when it is the second year of operation of the business
B37: where there is beginning and ending total assets employed.
